BEGIN:VCALENDAR
VERSION:2.0
PRODID:-//Eastern Mennonite Missions - ECPv6.15.20//NONSGML v1.0//EN
CALSCALE:GREGORIAN
METHOD:PUBLISH
X-WR-CALNAME:Eastern Mennonite Missions
X-ORIGINAL-URL:https://www.emm.org
X-WR-CALDESC:Events for Eastern Mennonite Missions
REFRESH-INTERVAL;VALUE=DURATION:PT1H
X-Robots-Tag:noindex
X-PUBLISHED-TTL:PT1H
BEGIN:VTIMEZONE
TZID:America/New_York
BEGIN:DAYLIGHT
TZOFFSETFROM:-0500
TZOFFSETTO:-0400
TZNAME:EDT
DTSTART:20240310T070000
END:DAYLIGHT
BEGIN:STANDARD
TZOFFSETFROM:-0400
TZOFFSETTO:-0500
TZNAME:EST
DTSTART:20241103T060000
END:STANDARD
BEGIN:DAYLIGHT
TZOFFSETFROM:-0500
TZOFFSETTO:-0400
TZNAME:EDT
DTSTART:20250309T070000
END:DAYLIGHT
BEGIN:STANDARD
TZOFFSETFROM:-0400
TZOFFSETTO:-0500
TZNAME:EST
DTSTART:20251102T060000
END:STANDARD
BEGIN:DAYLIGHT
TZOFFSETFROM:-0500
TZOFFSETTO:-0400
TZNAME:EDT
DTSTART:20260308T070000
END:DAYLIGHT
BEGIN:STANDARD
TZOFFSETFROM:-0400
TZOFFSETTO:-0500
TZNAME:EST
DTSTART:20261101T060000
END:STANDARD
BEGIN:DAYLIGHT
TZOFFSETFROM:-0500
TZOFFSETTO:-0400
TZNAME:EDT
DTSTART:20270314T070000
END:DAYLIGHT
BEGIN:STANDARD
TZOFFSETFROM:-0400
TZOFFSETTO:-0500
TZNAME:EST
DTSTART:20271107T060000
END:STANDARD
END:VTIMEZONE
BEGIN:VEVENT
DTSTART;TZID=America/New_York:20250804T083000
DTEND;TZID=America/New_York:20250808T163000
DTSTAMP:20260425T121220
CREATED:20250609T154847Z
LAST-MODIFIED:20250711T175250Z
UID:20817-1754296200-1754670600@www.emm.org
SUMMARY:Kairos en Español
DESCRIPTION:¡Esta es una oportunidad inolvidable donde conocerás más de la pasión de Dios por los pueblos de todo el mundo! \n\nSi tiene alguna pregunta\, comuníquese con Felixa al 717-330-3129.\nHaga clic aquí para registrarse en Kairos\n\nKairos es una herramienta que Dios está usando para ayudar a transformar la visión del mundo en los creyentes\, para que se vean a sí mismos no solamente como seres bendecidos sino para ser de bendición para todos los grupos étnicos del mundo. El curso de Kairos son impartidas por facilitadores en persona.\n\nKairos se impartirá por 5 días intensivos para entrar en el corazón de Dios por todos los pueblos del mundo y descubrir nuestro papel en ello.  Este curso esta disponible gracias a la colaboración entre Simply Mobilizing y RadiXtraining.  Este curso será impartido por facilitadores en persona. \n\n\nFecha: Del 4 al 8 de agosto\, 2025; de 8:30 am al 4:30 pm. Intensivo \nLugar:  En Eastern Mennonite Mission (450 North Prince St.\, Lancaster\, PA) \n\n\nCosto: $125 (Para miembros de las iglesias de LCM el precio es $95)
URL:https://www.emm.org/events/kairos-en-espanol/
LOCATION:Hub 450\, 450 N Prince St\, Lancaster\, PA\, 17603\, United States
ATTACH;FMTTYPE=image/png:https://www.emm.org/wp-content/uploads/2025/06/Kairos-en-Espanol-e1749581532561.png
END:VEVENT
BEGIN:VEVENT
DTSTART;TZID=America/New_York:20260321T080000
DTEND;TZID=America/New_York:20260423T213000
DTSTAMP:20260425T121220
CREATED:20230330T201234Z
LAST-MODIFIED:20260311T162911Z
UID:7885-1774080000-1776979800@www.emm.org
SUMMARY:Kairos Course
DESCRIPTION:This course is for Christians at any point in their journey with God\, guiding each participant into a biblical worldview. It is not strictly a “missions” course but is an opportunity for all God’s people to be transformed and aligned with God’s heart for the nations. It uses a unique combination of facilitated introductions\, reading\, videos\, group discussions\, special activities\, and prayer for unreached peoples. Kairos is one of several mobilization tools produced by Simply Mobilizing International\, based in the Philippines but active in over 100 countries around the world. To learn more about this course view this brochure or watch this video. \n\n\nClick here to register for the course. This course is also available in Spanish.  The registration fee of $125 per person covers materials\, refreshments\, and lunches on Saturdays. If you are active in an LMC congregation\, EMM would like to offer a reduced cost of $95 per person. For questions\, please contact Joe Garber. \nSpring 2026 Course Schedule \nSaturday\, March 21 8am-3:30pm\nThursday\, March 26 6:30-9pm\nThursday\, April 2 6:30-9pm\nThursday\, April 9 6:30-9pm\nThursday\, April 16 6:30-9pm\nSaturday\, April 18 8am-4:30 pm\nThursday\, April 23 6-9:30 pm \n\n\nPlan on an additional 2 hours each week for reading and completion of a simple worksheet. \n\nKairos is offered in the spring and fall.  \nRegister
URL:https://www.emm.org/events/kairos-course/
LOCATION:Alive Church\, 510 Stevens Rd\, Ephrata\, 17522\, United States
ATTACH;FMTTYPE=image/jpeg:https://www.emm.org/wp-content/uploads/2023/03/Kairos-homepage-ad-scaled.jpg
END:VEVENT
END:VCALENDAR