BEGIN:VCALENDAR
VERSION:2.0
PRODID:-//Eastern Mennonite Missions - ECPv6.15.20//NONSGML v1.0//EN
CALSCALE:GREGORIAN
METHOD:PUBLISH
X-ORIGINAL-URL:https://www.emm.org
X-WR-CALDESC:Events for Eastern Mennonite Missions
REFRESH-INTERVAL;VALUE=DURATION:PT1H
X-Robots-Tag:noindex
X-PUBLISHED-TTL:PT1H
BEGIN:VTIMEZONE
TZID:America/New_York
BEGIN:DAYLIGHT
TZOFFSETFROM:-0500
TZOFFSETTO:-0400
TZNAME:EDT
DTSTART:20240310T070000
END:DAYLIGHT
BEGIN:STANDARD
TZOFFSETFROM:-0400
TZOFFSETTO:-0500
TZNAME:EST
DTSTART:20241103T060000
END:STANDARD
BEGIN:DAYLIGHT
TZOFFSETFROM:-0500
TZOFFSETTO:-0400
TZNAME:EDT
DTSTART:20250309T070000
END:DAYLIGHT
BEGIN:STANDARD
TZOFFSETFROM:-0400
TZOFFSETTO:-0500
TZNAME:EST
DTSTART:20251102T060000
END:STANDARD
BEGIN:DAYLIGHT
TZOFFSETFROM:-0500
TZOFFSETTO:-0400
TZNAME:EDT
DTSTART:20260308T070000
END:DAYLIGHT
BEGIN:STANDARD
TZOFFSETFROM:-0400
TZOFFSETTO:-0500
TZNAME:EST
DTSTART:20261101T060000
END:STANDARD
END:VTIMEZONE
BEGIN:VEVENT
DTSTART;TZID=America/New_York:20250311T070000
DTEND;TZID=America/New_York:20250311T084500
DTSTAMP:20260419T194842
CREATED:20250130T160622Z
LAST-MODIFIED:20250211T210724Z
UID:19286-1741676400-1741682700@www.emm.org
SUMMARY:Business leaders' breakfast: following Jesus as a business leader
DESCRIPTION:Are you a business leader who seeks to intentionally live out your faith in a competitive business environment that sometimes feels at odds with your Christian principles and ethics? Come ready to be encouraged and hear real-life stories from a panel of business leaders about how followers of Jesus can faithfully seek the kingdom of God while achieving success in a competitive economy. A free hot breakfast and nearby parking are provided. Registration required. \nThe panel includes: \n\nJohn Drouillard\, CEO of Redemption Renovation & Design\nKrista Martin\, Human Resource Manager/Partner of Oregon Dairy\nRoger North\, founder and CEO of North Group Consultants\nRoger Zimmerman\, Executive Vice President of Paul B. Zimmerman\, Inc.\n\nThere is limited parking at Hub450. You are welcome to use nearby street parking on Prince Street\, Lemon Street\, or James Street\, which is limited to 2 hours and generally free or at least until 8:00 a.m. (please check the signs). Parking is also available at the Queen Street Garage (424 N Queen Street). Vouchers are available at the breakfast for those who park at the Queen Street Garage. You will need to get a ticket when you enter the garage\, and then you can use the voucher to pay when you exit the garage. \nRegister
URL:https://www.emm.org/events/business-leaders-breakfast-following-jesus-as-a-business-leader/
LOCATION:Hub 450\, 450 N Prince St\, Lancaster\, PA\, 17603\, United States
ATTACH;FMTTYPE=image/jpeg:https://www.emm.org/wp-content/uploads/2025/01/https___cdn.evbuc_.com_images_947977763_188697325382_1_original.jpeg
END:VEVENT
END:VCALENDAR